Workbook

Sheet Cuadro General
A1: Acreedor | B1: Nit | C1: Radicado | D1: Fecha de Radicación | E1: Datos Contacto | F1: Ciudad | G1: Naturaleza Obligación / Año / Periodo | H1: N.Factura | I1: Capital | J1: Interés | K1: Saciones | L1: Otros | M1: Vìnculo (Art. 24 Ley 1116 de 2006) | N1: CLASE | O1: SUBCLASE | P1: Reconocido | Q1: Postergado | R1: Rechazado | S1: Observacion | T1: Fecha de Origen Obligación (mes/año) | U1: Fecha de Vencimiento Obligación (mes/año) | V1: Dias de Mora | W1: FECHA ACTUALIZACION | X1: Factor IPC | Y1: Correción | Z1: Valor Capital Vencido-Actualizado IPC DANE | AA1: Derechos de Voto | AB1: Participación Derechos de Voto (%) Total General | AC1: Categoría Artículo 31 Ley 1116 de 2006 | AH1: m,,,,.
A2: BBVA COLOMBIA S.A | B2: 860.003.020-1 | C2: 2025-01-785781 | D2: 45971 | E2: El apoderado recibirá notificaciones la oficina ubicada en la Carrera 13 No. 32-51, Of. 503, de Bogotá, correo electrónico ncasesoriasjuridicas@hotmail.com El poderdante recibirá notificaciones en la Carrera 9 No. 72-21 Piso 10 de Bogotá, correo electrónico notifica.co@bbva.com. | F2: BOGOTA D.C. | H2: 1.3007332e+17 | I2: 21273474 | J2: 0 | K2: 0 | L2: 0 | M2: NO | N2: 5 | O2: QUIROGRAFARIO | P2: 21273474 | Q2: 0 | R2: 0 | S2: CREDITO RECONOCIDO | T2: 45717 | U2: 45717 | V2: =_xlfn.DAYS(U2,T2) -> 0 | W2: 45931 | X2: =VLOOKUP(U2,IPC!A1:B275,2,FALSE) -> 148.68 | Y2: =SUM(151.76/X2)-1 -> 0.020715631 | Z2: =+(P2*Y2)+P2 -> 21714167 | AA2: =+Z2 -> 21714167 | AB2: =+(AA2*100)/$AA$45 -> 36.577901 | AC2: CATEGORÍA C (INSTITUCIONES FINANCIERAS Y VIGILADAS)
A3: CAJA DE COMPENSACIÓN FAMILIAR COMPENSAR | B3: 860.066.942-7 | C3: 2025-01-835245 | D3: 45993 | E3: El apoderado en Calle 41a #8-25 Apto 202 Torre 1 Edificio Bulevar 42, Chapinero, de la ciudad de Bogotá D.C., móvil: 304 3431817 email: bjjimenezm@compensar.com El poderdante las recibe en la Avenida 68 No. 49 A - 47 Torre D piso 3 Bogotá D.C. | F3: BOGOTA D.C. | G3: Ajuste Aportes parafiscales de Aura Maria Millan Villa | H3: Memorando No. 924 | I3: 36600 | J3: 0 | K3: 0 | L3: 0 | M3: NO | N3: 1 | O3: PARAFISCAL | P3: =+I3 -> 36600 | Q3: 0 | R3: 0 | S3: CREDITO RECONOCIDO | T3: 44682 | U3: 44713 | V3: =_xlfn.DAYS(U3,T3) -> 31 | W3: 45931 | X3: =VLOOKUP(U3,IPC!A2:B276,2,FALSE) -> 119.31 | Y3: =SUM(151.76/X3)-1 -> 0.27198055 | Z3: =+(P3*Y3)+P3 -> 46554.488 | AA3: =+Z3 -> 46554.488 | AB3: =+(AA3*100)/$AA$45 -> 0.078421862 | AC3: CATEGORIA B (ENTIDADES PUBLICAS Y DE SEGURIDAD SOCIAL)
A4: CAJA DE COMPENSACIÓN FAMILIAR COMPENSAR | B4: 860.066.942-7 | C4: 2025-01-835245 | D4: 45993 | E4: El apoderado en Calle 41a #8-25 Apto 202 Torre 1 Edificio Bulevar 42, Chapinero, de la ciudad de Bogotá D.C., móvil: 304 3431817 email: bjjimenezm@compensar.com El poderdante las recibe en la Avenida 68 No. 49 A - 47 Torre D piso 3 Bogotá D.C. | F4: BOGOTA D.C. | G4: Aportes parafiscales del RENATA BOLIVAR BUSTAMANTE | H4: Memorando No. 924 | I4: 9652 | J4: 0 | K4: 0 | L4: 0 | M4: NO | N4: 1 | O4: PARAFISCAL | P4: =+I4 -> 9652 | Q4: 0 | R4: 0 | S4: CREDITO RECONOCIDO | T4: 44440 | U4: 44470 | V4: =_xlfn.DAYS(U4,T4) -> 30 | W4: 45931 | X4: =VLOOKUP(U4,IPC!A3:B277,2,FALSE) -> 110.06 | Y4: =SUM(151.76/X4)-1 -> 0.37888424 | Z4: =+(P4*Y4)+P4 -> 13308.991 | AA4: =+Z4 -> 13308.991 | AB4: =+(AA4*100)/$AA$45 -> 0.022419231 | AC4: CATEGORIA B (ENTIDADES PUBLICAS Y DE SEGURIDAD SOCIAL)
A5: CAJA DE COMPENSACIÓN FAMILIAR COMPENSAR | B5: 860.066.942-7 | C5: 2025-01-835245 | D5: 45993 | E5: El apoderado en Calle 41a #8-25 Apto 202 Torre 1 Edificio Bulevar 42, Chapinero, de la ciudad de Bogotá D.C., móvil: 304 3431817 email: bjjimenezm@compensar.com El poderdante las recibe en la Avenida 68 No. 49 A - 47 Torre D piso 3 Bogotá D.C. | F5: BOGOTA D.C. | G5: Aportes parafiscales de PAOLA ANDREA RUGELES RUEDA | H5: Memorando No. 924 | I5: 10504 | J5: 0 | K5: 0 | L5: 0 | M5: NO | N5: 1 | O5: PARAFISCAL | P5: =+I5 -> 10504 | Q5: 0 | R5: 0 | S5: CREDITO RECONOCIDO | T5: 44440 | U5: 44470 | V5: =_xlfn.DAYS(U5,T5) -> 30 | W5: 45931 | X5: =VLOOKUP(U5,IPC!A4:B278,2,FALSE) -> 110.06 | Y5: =SUM(151.76/X5)-1 -> 0.37888424 | Z5: =+(P5*Y5)+P5 -> 14483.8 | AA5: =+Z5 -> 14483.8 | AB5: =+(AA5*100)/$AA$45 -> 0.024398219 | AC5: CATEGORIA B (ENTIDADES PUBLICAS Y DE SEGURIDAD SOCIAL)
A6: CAJA DE COMPENSACIÓN FAMILIAR COMPENSAR | B6: 860.066.942-7 | C6: 2025-01-835245 | D6: 45993 | E6: El apoderado en Calle 41a #8-25 Apto 202 Torre 1 Edificio Bulevar 42, Chapinero, de la ciudad de Bogotá D.C., móvil: 304 3431817 email: bjjimenezm@compensar.com El poderdante las recibe en la Avenida 68 No. 49 A - 47 Torre D piso 3 Bogotá D.C. | F6: BOGOTA D.C. | G6: Aportes parafiscales de KATHERINE SOFIA BAEZ RODRIGUEZ | H6: Memorando No. 924 | I6: 19911 | J6: 0 | K6: 0 | L6: 0 | M6: NO | N6: 1 | O6: PARAFISCAL | P6: =+I6 -> 19911 | Q6: 0 | R6: 0 | S6: CREDITO RECONOCIDO | T6: 44593 | U6: 44621 | V6: =_xlfn.DAYS(U6,T6) -> 28 | W6: 45931 | X6: =VLOOKUP(U6,IPC!A5:B279,2,FALSE) -> 116.26 | Y6: =SUM(151.76/X6)-1 -> 0.30535008 | Z6: =+(P6*Y6)+P6 -> 25990.825 | AA6: =+Z6 -> 25990.825 | AB6: =+(AA6*100)/$AA$45 -> 0.043782007 | AC6: CATEGORIA B (ENTIDADES PUBLICAS Y DE SEGURIDAD SOCIAL)
A7: CAJA DE COMPENSACIÓN FAMILIAR COMPENSAR | B7: 860.066.942-7 | C7: 2025-01-835245 | D7: 45993 | E7: El apoderado en Calle 41a #8-25 Apto 202 Torre 1 Edificio Bulevar 42, Chapinero, de la ciudad de Bogotá D.C., móvil: 304 3431817 email: bjjimenezm@compensar.com El poderdante las recibe en la Avenida 68 No. 49 A - 47 Torre D piso 3 Bogotá D.C. | F7: BOGOTA D.C. | G7: Aportes parafiscales de BRUNO MATEO SOLANO SORIA | H7: Memorando No. 924 | I7: 93333 | J7: 0 | K7: 0 | L7: 0 | M7: NO | N7: 1 | O7: PARAFISCAL | P7: =+I7 -> 93333 | Q7: 0 | R7: 0 | S7: CREDITO RECONOCIDO | T7: 44593 | U7: 44621 | V7: =_xlfn.DAYS(U7,T7) -> 28 | W7: 45931 | X7: =VLOOKUP(U7,IPC!A6:B280,2,FALSE) -> 116.26 | Y7: =SUM(151.76/X7)-1 -> 0.30535008 | Z7: =+(P7*Y7)+P7 -> 121832.24 | AA7: =+Z7 -> 121832.24 | AB7: =+(AA7*100)/$AA$45 -> 0.20522857 | AC7: CATEGORIA B (ENTIDADES PUBLICAS Y DE SEGURIDAD SOCIAL)
A8: CAJA DE COMPENSACIÓN FAMILIAR COMPENSAR | B8: 860.066.942-7 | C8: 2025-01-835245 | D8: 45993 | E8: El apoderado en Calle 41a #8-25 Apto 202 Torre 1 Edificio Bulevar 42, Chapinero, de la ciudad de Bogotá D.C., móvil: 304 3431817 email: bjjimenezm@compensar.com El poderdante las recibe en la Avenida 68 No. 49 A - 47 Torre D piso 3 Bogotá D.C. | F8: BOGOTA D.C. | G8: Aportes parafiscales de BRUNO MATEO SOLANO SORIA | H8: Memorando No. 924 | I8: 29166 | J8: 0 | K8: 0 | L8: 0 | M8: NO | N8: 1 | O8: PARAFISCAL | P8: =+I8 -> 29166 | Q8: 0 | R8: 0 | S8: CREDITO RECONOCIDO | T8: 44774 | U8: 45901 | V8: =_xlfn.DAYS(U8,T8) -> 1127 | W8: 45931 | X8: =VLOOKUP(U8,IPC!A7:B281,2,FALSE) -> 151.48 | Y8: =SUM(151.76/X8)-1 -> 0.0018484288 | Z8: =+(P8*Y8)+P8 -> 29219.911 | AA8: =+Z8 -> 29219.911 | AB8: =+(AA8*100)/$AA$45 -> 0.04922146 | AC8: CATEGORIA B (ENTIDADES PUBLICAS Y DE SEGURIDAD SOCIAL)
A9: SOCIEDAD ADMINISTRADORA DE FONDOS DE PENSIONES Y CESANTIAS PORVENIR S.A. | B9: 800144331 | C9: 2025-01-728138 | D9: 45987 | E9: Los abogados recibirán en la ciudad de Bogotá, en la Calle 38 # 8-56 OFC 203 de Bogotá. El poderdante recibirá en la Carrera 13 # 27 – 75 de Bogotá, o en la Secretaría Administrativa de esa Intendencia. | F9: BOGOTA D.C. | G9: Aportes pensionales GARCIA PUELLO ANTARES DE LAS ESTRELLAS | H9: N/A | I9: 240000 | J9: 80600 | K9: 0 | L9: 0 | M9: NO | N9: 1 | O9: SEGURIDAD SOCIAL | P9: =+I9 -> 240000 | Q9: =+J9 -> 80600 | R9: 0 | S9: CREDITO RECONOCIDO. Valor postergado por concepto de intereses, causal No.6, art.69 Ley 1116 de 2006 | T9: 43952 | U9: 43952 | V9: =_xlfn.DAYS(U9,T9) -> 0 | W9: 45931 | X9: =VLOOKUP(U9,IPC!A8:B282,2,FALSE) -> 105.36 | Y9: =SUM(151.76/X9)-1 -> 0.44039484 | Z9: =+(P9*Y9)+P9 -> 345694.76 | AA9: =+Z9 -> 345694.76 | AB9: =+(AA9*100)/$AA$45 -> 0.58232896 | AC9: CATEGORIA B (ENTIDADES PUBLICAS Y DE SEGURIDAD SOCIAL)
A10: SOCIEDAD ADMINISTRADORA DE FONDOS DE PENSIONES Y CESANTIAS PORVENIR S.A. | B10: 800144331 | C10: 2025-01-728138 | D10: 45987 | E10: Los abogados recibirán en la ciudad de Bogotá, en la Calle 38 # 8-56 OFC 203 de Bogotá. El poderdante recibirá en la Carrera 13 # 27 – 75 de Bogotá, o en la Secretaría Administrativa de esa Intendencia. | F10: BOGOTA D.C. | G10: Aportes pensionales MARIA PAULA VILLARRAGA SEDANO | H10: N/A | I10: 140448 | J10: 223800 | K10: 0 | L10: 0 | M10: NO | N10: 1 | O10: SEGURIDAD SOCIAL | P10: 140448 | Q10: =+J10 -> 223800 | R10: 0 | S10: CREDITO RECONOCIDO. Valor postergado por concepto de intereses, causal No.6, art.69 Ley 1116 de 2006 | T10: 43891 | U10: 43952 | V10: =_xlfn.DAYS(U10,T10) -> 61 | W10: 45931 | X10: =VLOOKUP(U10,IPC!A9:B283,2,FALSE) -> 105.36 | Y10: =SUM(151.76/X10)-1 -> 0.44039484 | Z10: =+(P10*Y10)+P10 -> 202300.57 | AA10: =+Z10 -> 202300.57 | AB10: =+(AA10*100)/$AA$45 -> 0.34077891 | AC10: CATEGORIA B (ENTIDADES PUBLICAS Y DE SEGURIDAD SOCIAL)
A11: Secretaría Distrital de Hacienda | B11: 899.999.061-9 | C11: 2025-01-819611 | D11: 45986 | E11: Carrera 30 No. 25-90 Piso 10 Subdirección de Gestión Judicial Secretaría Distrital de Hacienda, en la ciudad de Bogotá, cmunozo@shd.gov.co, Cel. Personal 3004484776 - 3004313955. | F11: BOGOTA D.C. | G11: ICA 2020 7 | H11: N/A | I11: 5934000 | J11: 6283000 | K11: 0 | L11: 0 | M11: NO | N11: 1 | O11: FISCAL | P11: 5934000 | Q11: =+J11 -> 6283000 | R11: 0 | S11: CREDITO RECONOCIDO. Valor postergado por concepto de intereses, causal No.6, art.69 Ley 1116 de 2006 | T11: 43831 | U11: 43831 | V11: =_xlfn.DAYS(U11,T11) -> 0 | W11: 45931 | X11: =VLOOKUP(U11,IPC!A1:B275,2,FALSE) -> 104.24 | Y11: =SUM(151.76/X11)-1 -> 0.45587107 | Z11: =+(P11*Y11)+P11 -> 8639138.9 | AA11: =+Z11 -> 8639138.9 | AB11: =+(AA11*100)/$AA$45 -> 14.552783 | AC11: CATEGORIA B (ENTIDADES PUBLICAS Y DE SEGURIDAD SOCIAL)
A12: Secretaría Distrital de Hacienda | B12: 899.999.061-9 | C12: 2025-01-819611 | D12: 45986 | E12: Carrera 30 No. 25-90 Piso 10 Subdirección de Gestión Judicial Secretaría Distrital de Hacienda, en la ciudad de Bogotá, cmunozo@shd.gov.co, Cel. Personal 3004484776 - 3004313955. | F12: BOGOTA D.C. | G12: ICA 2020 7 | H12: N/A | I12: 0 | J12: 0 | K12: 2325000 | L12: 0 | M12: NO | N12: 5 | P12: 2325000 | Q12: 0 | R12: 0 | S12: CREDITO RECONOCIDO | T12: 43831 | U12: 43831 | V12: =_xlfn.DAYS(U12,T12) -> 0 | W12: 45931 | X12: =VLOOKUP(U12,IPC!A2:B276,2,FALSE) -> 104.24 | Y12: =SUM(151.76/X12)-1 -> 0.45587107 | Z12: =+(P12*Y12)+P12 -> 3384900.2 | AA12: =+Z12 -> 3384900.2 | AB12: =+(AA12*100)/$AA$45 -> 5.7019246 | AC12: CATEGORIA B (ENTIDADES PUBLICAS Y DE SEGURIDAD SOCIAL)
A13: Secretaría Distrital de Hacienda | B13: 899.999.061-9 | C13: 2025-01-819612 | D13: 45986 | E13: Carrera 30 No. 25-90 Piso 10 Subdirección de Gestión Judicial Secretaría Distrital de Hacienda, en la ciudad de Bogotá, cmunozo@shd.gov.co, Cel. Personal 3004484776 - 3004313955. | F13: BOGOTA D.C. | G13: ICA 2021 7 | H13: N/A | I13: 2905000 | J13: 2512000 | K13: 0 | L13: 0 | M13: NO | N13: 1 | O13: FISCAL | P13: 2905000 | Q13: =+J13 -> 2512000 | R13: 0 | S13: CREDITO RECONOCIDO. Valor postergado por concepto de intereses, causal No.6, art.69 Ley 1116 de 2006 | T13: 44197 | U13: 44197 | V13: =_xlfn.DAYS(U13,T13) -> 0 | W13: 45931 | X13: =VLOOKUP(U13,IPC!A12:B286,2,FALSE) -> 105.91 | Y13: =SUM(151.76/X13)-1 -> 0.43291474 | Z13: =+(P13*Y13)+P13 -> 4162617.3 | AA13: =+Z13 -> 4162617.3 | AB13: =+(AA13*100)/$AA$45 -> 7.0120028 | AC13: CATEGORIA B (ENTIDADES PUBLICAS Y DE SEGURIDAD SOCIAL)
A14: Secretaría Distrital de Hacienda | B14: 899.999.061-9 | C14: 2025-01-819613 | D14: 45986 | E14: Carrera 30 No. 25-90 Piso 10 Subdirección de Gestión Judicial Secretaría Distrital de Hacienda, en la ciudad de Bogotá, cmunozo@shd.gov.co, Cel. Personal 3004484776 - 3004313955. | F14: BOGOTA D.C. | G14: ICA 2022 7 | H14: N/A | I14: 3039000 | J14: 1853000 | K14: 0 | L14: 0 | M14: NO | N14: 1 | O14: FISCAL | P14: 3039000 | Q14: =+J14 -> 1853000 | R14: 0 | S14: CREDITO RECONOCIDO. Valor postergado por concepto de intereses, causal No.6, art.69 Ley 1116 de 2007 | T14: 44562 | U14: 44562 | V14: =_xlfn.DAYS(U14,T14) -> 0 | W14: 45931 | X14: =VLOOKUP(U14,IPC!A13:B287,2,FALSE) -> 113.26 | Y14: =SUM(151.76/X14)-1 -> 0.33992583 | Z14: =+(P14*Y14)+P14 -> 4072034.6 | AA14: =+Z14 -> 4072034.6 | AB14: =+(AA14*100)/$AA$45 -> 6.8594146 | AC14: CATEGORIA B (ENTIDADES PUBLICAS Y DE SEGURIDAD SOCIAL)
A15: Secretaría Distrital de Hacienda | B15: 899.999.061-9 | C15: 2025-01-819614 | D15: 45986 | E15: Carrera 30 No. 25-90 Piso 10 Subdirección de Gestión Judicial Secretaría Distrital de Hacienda, en la ciudad de Bogotá, cmunozo@shd.gov.co, Cel. Personal 3004484776 - 3004313955. | F15: BOGOTA D.C. | G15: ICA 2023 7 | H15: N/A | I15: 1292000 | J15: 513000 | K15: 0 | L15: 0 | M15: NO | N15: 1 | O15: FISCAL | P15: 1292000 | Q15: =+J15 -> 513000 | R15: 0 | S15: CREDITO RECONOCIDO. Valor postergado por concepto de intereses, causal No.6, art.69 Ley 1116 de 2008 | T15: 44927 | U15: 44927 | V15: =_xlfn.DAYS(U15,T15) -> 0 | W15: 45931 | X15: =VLOOKUP(U15,IPC!A14:B288,2,FALSE) -> 128.27 | Y15: =SUM(151.76/X15)-1 -> 0.18312934 | Z15: =+(P15*Y15)+P15 -> 1528603.1 | AA15: =+Z15 -> 1528603.1 | AB15: =+(AA15*100)/$AA$45 -> 2.5749591 | AC15: CATEGORIA B (ENTIDADES PUBLICAS Y DE SEGURIDAD SOCIAL)
A16: Secretaría Distrital de Hacienda | B16: 899.999.061-9 | C16: 2025-01-819615 | D16: 45986 | E16: Carrera 30 No. 25-90 Piso 10 Subdirección de Gestión Judicial Secretaría Distrital de Hacienda, en la ciudad de Bogotá, cmunozo@shd.gov.co, Cel. Personal 3004484776 - 3004313955. | F16: BOGOTA D.C. | G16: RETEICA 2020 1 | H16: N/A | I16: 656000 | J16: 853000 | K16: 0 | L16: 0 | M16: NO | N16: 1 | O16: FISCAL | P16: 656000 | Q16: =+J16 -> 853000 | R16: 0 | S16: CREDITO RECONOCIDO. Valor postergado por concepto de intereses, causal No.6, art.69 Ley 1116 de 2009 | T16: 43891 | U16: 43891 | V16: =_xlfn.DAYS(U16,T16) -> 0 | W16: 45931 | X16: =VLOOKUP(U16,IPC!A15:B289,2,FALSE) -> 105.53 | Y16: =SUM(151.76/X16)-1 -> 0.43807448 | Z16: =+(P16*Y16)+P16 -> 943376.86 | AA16: =+Z16 -> 943376.86 | AB16: =+(AA16*100)/$AA$45 -> 1.5891351 | AC16: CATEGORIA B (ENTIDADES PUBLICAS Y DE SEGURIDAD SOCIAL)
A17: Secretaría Distrital de Hacienda | B17: 899.999.061-9 | C17: 2025-01-819616 | D17: 45986 | E17: Carrera 30 No. 25-90 Piso 10 Subdirección de Gestión Judicial Secretaría Distrital de Hacienda, en la ciudad de Bogotá, cmunozo@shd.gov.co, Cel. Personal 3004484776 - 3004313955. | F17: BOGOTA D.C. | G17: RETEICA 2020 2 | H17: N/A | I17: 386000 | J17: 468000 | K17: 0 | L17: 0 | M17: NO | N17: 1 | O17: FISCAL | P17: 386000 | Q17: =+J17 -> 468000 | R17: 0 | S17: CREDITO RECONOCIDO. Valor postergado por concepto de intereses, causal No.6, art.69 Ley 1116 de 2010 | T17: 43952 | U17: 43952 | V17: =_xlfn.DAYS(U17,T17) -> 0 | W17: 45931 | X17: =VLOOKUP(U17,IPC!A16:B290,2,FALSE) -> 105.36 | Y17: =SUM(151.76/X17)-1 -> 0.44039484 | Z17: =+(P17*Y17)+P17 -> 555992.41 | AA17: =+Z17 -> 555992.41 | AB17: =+(AA17*100)/$AA$45 -> 0.93657908 | AC17: CATEGORIA B (ENTIDADES PUBLICAS Y DE SEGURIDAD SOCIAL)
A18: Secretaría Distrital de Hacienda | B18: 899.999.061-9 | C18: 2025-01-819617 | D18: 45986 | E18: Carrera 30 No. 25-90 Piso 10 Subdirección de Gestión Judicial Secretaría Distrital de Hacienda, en la ciudad de Bogotá, cmunozo@shd.gov.co, Cel. Personal 3004484776 - 3004313955. | F18: BOGOTA D.C. | G18: RETEICA 2020 3 | H18: N/A | I18: 111000 | J18: 132000 | K18: 0 | L18: 0 | M18: NO | N18: 1 | O18: FISCAL | P18: 111000 | Q18: =+J18 -> 132000 | R18: 0 | S18: CREDITO RECONOCIDO. Valor postergado por concepto de intereses, causal No.6, art.69 Ley 1116 de 2011 | T18: 44013 | U18: 44013 | V18: =_xlfn.DAYS(U18,T18) -> 0 | W18: 45931 | X18: =VLOOKUP(U18,IPC!A17:B291,2,FALSE) -> 104.97 | Y18: =SUM(151.76/X18)-1 -> 0.4457464 | Z18: =+(P18*Y18)+P18 -> 160477.85 | AA18: =+Z18 -> 160477.85 | AB18: =+(AA18*100)/$AA$45 -> 0.27032779 | AC18: CATEGORIA B (ENTIDADES PUBLICAS Y DE SEGURIDAD SOCIAL)
A19: Secretaría Distrital de Hacienda | B19: 899.999.061-9 | C19: 2025-01-819618 | D19: 45986 | E19: Carrera 30 No. 25-90 Piso 10 Subdirección de Gestión Judicial Secretaría Distrital de Hacienda, en la ciudad de Bogotá, cmunozo@shd.gov.co, Cel. Personal 3004484776 - 3004313955. | F19: BOGOTA D.C. | G19: RETEICA 2020 4 | H19: N/A | I19: 17000 | J19: 20000 | K19: 0 | L19: 0 | M19: NO | N19: 1 | O19: FISCAL | P19: 17000 | Q19: =+J19 -> 20000 | R19: 0 | S19: CREDITO RECONOCIDO. Valor postergado por concepto de intereses, causal No.6, art.69 Ley 1116 de 2012 | T19: 44075 | U19: 44075 | V19: =_xlfn.DAYS(U19,T19) -> 0 | W19: 45931 | X19: =VLOOKUP(U19,IPC!A18:B292,2,FALSE) -> 105.29 | Y19: =SUM(151.76/X19)-1 -> 0.44135246 | Z19: =+(P19*Y19)+P19 -> 24502.992 | AA19: =+Z19 -> 24502.992 | AB19: =+(AA19*100)/$AA$45 -> 0.041275725 | AC19: CATEGORIA B (ENTIDADES PUBLICAS Y DE SEGURIDAD SOCIAL)
A20: Secretaría Distrital de Hacienda | B20: 899.999.061-9 | C20: 2025-01-819619 | D20: 45986 | E20: Carrera 30 No. 25-90 Piso 10 Subdirección de Gestión Judicial Secretaría Distrital de Hacienda, en la ciudad de Bogotá, cmunozo@shd.gov.co, Cel. Personal 3004484776 - 3004313955. | F20: BOGOTA D.C. | G20: RETEICA 2020 5 | H20: N/A | I20: 125000 | J20: 143000 | K20: 0 | L20: 0 | M20: NO | N20: 1 | O20: FISCAL | P20: 125000 | Q20: =+J20 -> 143000 | R20: 0 | S20: CREDITO RECONOCIDO. Valor postergado por concepto de intereses, causal No.6, art.69 Ley 1116 de 2013 | T20: 44136 | U20: 44136 | V20: =_xlfn.DAYS(U20,T20) -> 0 | W20: 45931 | X20: =VLOOKUP(U20,IPC!A19:B293,2,FALSE) -> 105.08 | Y20: =SUM(151.76/X20)-1 -> 0.44423297 | Z20: =+(P20*Y20)+P20 -> 180529.12 | AA20: =+Z20 -> 180529.12 | AB20: =+(AA20*100)/$AA$45 -> 0.30410451 | AC20: CATEGORIA B (ENTIDADES PUBLICAS Y DE SEGURIDAD SOCIAL)
A21: Secretaría Distrital de Hacienda | B21: 899.999.061-9 | C21: 2025-01-819620 | D21: 45986 | E21: Carrera 30 No. 25-90 Piso 10 Subdirección de Gestión Judicial Secretaría Distrital de Hacienda, en la ciudad de Bogotá, cmunozo@shd.gov.co, Cel. Personal 3004484776 - 3004313955. | F21: BOGOTA D.C. | G21: RETEICA 2020 6 | H21: N/A | I21: 2523000 | J21: 2781000 | K21: 0 | L21: 0 | M21: NO | N21: 1 | O21: FISCAL | P21: 2523000 | Q21: =+J21 -> 2781000 | R21: 0 | S21: CREDITO RECONOCIDO. Valor postergado por concepto de intereses, causal No.6, art.69 Ley 1116 de 2014 | T21: 44197 | U21: 44197 | V21: =_xlfn.DAYS(U21,T21) -> 0 | W21: 45931 | X21: =VLOOKUP(U21,IPC!A20:B294,2,FALSE) -> 105.91 | Y21: =SUM(151.76/X21)-1 -> 0.43291474 | Z21: =+(P21*Y21)+P21 -> 3615243.9 | AA21: =+Z21 -> 3615243.9 | AB21: =+(AA21*100)/$AA$45 -> 6.0899425 | AC21: CATEGORIA B (ENTIDADES PUBLICAS Y DE SEGURIDAD SOCIAL)
A22: Secretaría Distrital de Hacienda | B22: 899.999.061-9 | C22: 2025-01-819621 | D22: 45986 | E22: Carrera 30 No. 25-90 Piso 10 Subdirección de Gestión Judicial Secretaría Distrital de Hacienda, en la ciudad de Bogotá, cmunozo@shd.gov.co, Cel. Personal 3004484776 - 3004313955. | F22: BOGOTA D.C. | G22: RETEICA 2021 1 | H22: N/A | I22: 262000 | J22: 276000 | K22: 0 | L22: 0 | M22: NO | N22: 1 | O22: FISCAL | P22: 262000 | Q22: =+J22 -> 276000 | R22: 0 | S22: CREDITO RECONOCIDO. Valor postergado por concepto de intereses, causal No.6, art.69 Ley 1116 de 2015 | T22: 44256 | U22: 44256 | V22: =_xlfn.DAYS(U22,T22) -> 0 | W22: 45931 | X22: =VLOOKUP(U22,IPC!A21:B295,2,FALSE) -> 107.12 | Y22: =SUM(151.76/X22)-1 -> 0.4167289 | Z22: =+(P22*Y22)+P22 -> 371182.97 | AA22: =+Z22 -> 371182.97 | AB22: =+(AA22*100)/$AA$45 -> 0.62526431 | AC22: CATEGORIA B (ENTIDADES PUBLICAS Y DE SEGURIDAD SOCIAL)
A23: Secretaría Distrital de Hacienda | B23: 899.999.061-9 | C23: 2025-01-819622 | D23: 45986 | E23: Carrera 30 No. 25-90 Piso 10 Subdirección de Gestión Judicial Secretaría Distrital de Hacienda, en la ciudad de Bogotá, cmunozo@shd.gov.co, Cel. Personal 3004484776 - 3004313955. | F23: BOGOTA D.C. | G23: RETEICA 2021 2 | H23: N/A | I23: 760000 | J23: 769000 | K23: 0 | L23: 0 | M23: NO | N23: 1 | O23: FISCAL | P23: 760000 | Q23: =+J23 -> 769000 | R23: 0 | S23: CREDITO RECONOCIDO. Valor postergado por concepto de intereses, causal No.6, art.69 Ley 1116 de 2016 | T23: 44317 | U23: 44317 | V23: =_xlfn.DAYS(U23,T23) -> 0 | W23: 45931 | X23: =VLOOKUP(U23,IPC!A22:B296,2,FALSE) -> 108.84 | Y23: =SUM(151.76/X23)-1 -> 0.39434032 | Z23: =+(P23*Y23)+P23 -> 1059698.6 | AA23: =+Z23 -> 1059698.6 | AB23: =+(AA23*100)/$AA$45 -> 1.7850812 | AC23: CATEGORIA B (ENTIDADES PUBLICAS Y DE SEGURIDAD SOCIAL)
A24: Secretaría Distrital de Hacienda | B24: 899.999.061-9 | C24: 2025-01-819623 | D24: 45986 | E24: Carrera 30 No. 25-90 Piso 10 Subdirección de Gestión Judicial Secretaría Distrital de Hacienda, en la ciudad de Bogotá, cmunozo@shd.gov.co, Cel. Personal 3004484776 - 3004313955. | F24: BOGOTA D.C. | G24: RETEICA 2021 3 | H24: N/A | I24: 159000 | J24: 155000 | K24: 0 | L24: 0 | M24: NO | N24: 1 | O24: FISCAL | P24: 159000 | Q24: =+J24 -> 155000 | R24: 0 | S24: CREDITO RECONOCIDO. Valor postergado por concepto de intereses, causal No.6, art.69 Ley 1116 de 2017 | T24: 44378 | U24: 44378 | V24: =_xlfn.DAYS(U24,T24) -> 0 | W24: 45931 | X24: =VLOOKUP(U24,IPC!A23:B297,2,FALSE) -> 109.14 | Y24: =SUM(151.76/X24)-1 -> 0.3905076 | Z24: =+(P24*Y24)+P24 -> 221090.71 | AA24: =+Z24 -> 221090.71 | AB24: =+(AA24*100)/$AA$45 -> 0.37243123 | AC24: CATEGORIA B (ENTIDADES PUBLICAS Y DE SEGURIDAD SOCIAL)
... A43: Secretaría Distrital de Hacienda | B43: 899.999.061-9 | C43: 2025-01-819642 | D43: 45986 | E43: Carrera 30 No. 25-90 Piso 10 Subdirección de Gestión Judicial Secretaría Distrital de Hacienda, en la ciudad de Bogotá, cmunozo@shd.gov.co, Cel. Personal 3004484776 - 3004313955. | F43: BOGOTA D.C. | G43: RETEICA 2024 4 | H43: N/A | I43: 6000 | J43: 2000 | K43: 0 | L43: 0 | M43: NO | N43: 1 | O43: FISCAL | P43: 6000 | Q43: =+J43 -> 2000 | R43: 0 | S43: CREDITO RECONOCIDO. Valor postergado por concepto de intereses, causal No.6, art.69 Ley 1116 de 2036 | T43: 45536 | U43: 45536 | V43: =_xlfn.DAYS(U43,T43) -> 0 | W43: 45931 | X43: =VLOOKUP(U43,IPC!A42:B316,2,FALSE) -> 144.02 | Y43: =SUM(151.76/X43)-1 -> 0.053742536 | Z43: =+(P43*Y43)+P43 -> 6322.4552 | AA43: =+Z43 -> 6322.4552 | AB43: =+(AA43*100)/$AA$45 -> 0.010650288 | AC43: CATEGORIA B (ENTIDADES PUBLICAS Y DE SEGURIDAD SOCIAL)
A44: Superintendencia de Sociedades | C44: 2025-02-839733 | D44: 45966 | E44: Avda. el Dorado No 51 – 80 piso 2 Oficina 2114 asmoreno@supersociedades.gov.co | F44: BOGOTA D.C. | G44: CONTRIBUCION 2025 | H44: 187455 | I44: 1423500 | J44: 26000 | K44: 0 | L44: 0 | M44: NO | N44: 1 | O44: FISCAL | P44: 1423500 | Q44: =+J44 -> 26000 | R44: 0 | S44: CREDITO RECONOCIDO. Valor postergado por concepto de intereses, causal No.6, art.69 Ley 1116 de 2037 | T44: 45658 | U44: 45931 | V44: =_xlfn.DAYS(U44,T44) -> 273 | W44: 45931 | X44: =VLOOKUP(U44,IPC!A43:B317,2,FALSE) -> 151.76 | Y44: =SUM(151.76/X44)-1 -> 0 | Z44: =+(P44*Y44)+P44 -> 1423500 | AA44: =+Z44 -> 1423500 | AB44: =+(AA44*100)/$AA$45 -> 2.397911 | AC44: CATEGORIA B (ENTIDADES PUBLICAS Y DE SEGURIDAD SOCIAL)
I45: =SUM(I2:I44) -> 46801588 | J45: =SUM(J2:J44) -> 20648400 | K45: =SUM(K2:K44) -> 2325000 | L45: =SUM(L2:L44) -> 0 | P45: =SUM(P2:P44) -> 49126588 | Q45: =SUM(Q2:Q44) -> 20648400 | R45: =SUM(R2:R44) -> 0 | Z45: =SUM(Z2:Z44) -> 59364171 | AA45: =SUM(AA2:AA44) -> 59364171 | AB45: =SUM(AB2:AB44) -> 100
I46: =+I45+J45+K45++L45 -> 69774988 | P46: =+P45+Q45+R45 -> 69774988

Sheet CALIFICACION DE CREDITOS
A2: PROYECTO DE CALIFICACION Y GRADUACION DE CREDITOS PERAL SORIA SAS (CORTE OCT-2025)
A4: CREDITOS RECONOCIDOS
A6: PRIMERA CLASE / SEGURIDAD SOCIAL
A7: Acreedor | B7: Nit | C7: Radicado | D7: Fecha de Radicación | E7: Datos Contacto | F7: Ciudad | G7: Naturaleza Obligación / Año / Periodo | H7: N.Factura | I7: Capital | J7: Interés | K7: Saciones | L7: Otros | M7: Vìnculo (Art. 24 Ley 1116 de 2006) | N7: CLASE | O7: SUBCLASE | P7: Reconocido | Q7: Postergado | R7: Rechazado | S7: Observacion | T7: Fecha de Origen Obligación (mes/año) | U7: Fecha de Vencimiento Obligación (mes/año) | V7: Dias de Mora | W7: FECHA ACTUALIZACION | X7: Factor IPC | Y7: Correción | Z7: Valor Capital Vencido-Actualizado IPC DANE | AA7: Derechos de Voto | AB7: Participación Derechos de Voto (%) Total General | AC7: Categoría Artículo 31 Ley 1116 de 2006
A8: SOCIEDAD ADMINISTRADORA DE FONDOS DE PENSIONES Y CESANTIAS PORVENIR S.A. | B8: 800144331 | C8: 2025-01-728138 | D8: 45987 | E8: Los abogados recibirán en la ciudad de Bogotá, en la Calle 38 # 8-56 OFC 203 de Bogotá. El poderdante recibirá en la Carrera 13 # 27 – 75 de Bogotá, o en la Secretaría Administrativa de esa Intendencia. | F8: BOGOTA D.C. | G8: Aportes pensionales GARCIA PUELLO ANTARES DE LAS ESTRELLAS | H8: N/A | I8: 240000 | J8: 80600 | K8: 0 | L8: 0 | M8: NO | N8: 1 | O8: SEGURIDAD SOCIAL | P8: 240000 | Q8: 80600 | R8: 0 | S8: CREDITO RECONOCIDO. Valor postergado por concepto de intereses, causal No.6, art.69 Ley 1116 de 2006 | T8: 43952 | U8: 43952 | V8: 0 | W8: 45931 | X8: 105.36 | Y8: 0.44039484 | Z8: 345694.76 | AA8: 345694.76 | AB8: 0.58232896 | AC8: CATEGORIA B (ENTIDADES PUBLICAS Y DE SEGURIDAD SOCIAL)
A9: SOCIEDAD ADMINISTRADORA DE FONDOS DE PENSIONES Y CESANTIAS PORVENIR S.A. | B9: 800144331 | C9: 2025-01-728138 | D9: 45987 | E9: Los abogados recibirán en la ciudad de Bogotá, en la Calle 38 # 8-56 OFC 203 de Bogotá. El poderdante recibirá en la Carrera 13 # 27 – 75 de Bogotá, o en la Secretaría Administrativa de esa Intendencia. | F9: BOGOTA D.C. | G9: Aportes pensionales MARIA PAULA VILLARRAGA SEDANO | H9: N/A | I9: 140448 | J9: 223800 | K9: 0 | L9: 0 | M9: NO | N9: 1 | O9: SEGURIDAD SOCIAL | P9: 140448 | Q9: 223800 | R9: 0 | S9: CREDITO RECONOCIDO. Valor postergado por concepto de intereses, causal No.6, art.69 Ley 1116 de 2006 | T9: 43891 | U9: 43952 | V9: 61 | W9: 45931 | X9: 105.36 | Y9: 0.44039484 | Z9: 202300.57 | AA9: 202300.57 | AB9: 0.34077891 | AC9: CATEGORIA B (ENTIDADES PUBLICAS Y DE SEGURIDAD SOCIAL)
A10: Total SOCIEDAD ADMINISTRADORA DE FONDOS DE PENSIONES Y CESANTIAS PORVENIR S.A. | I10: =SUBTOTAL(9,I8:I9) -> 380448 | J10: =SUBTOTAL(9,J8:J9) -> 304400 | K10: =SUBTOTAL(9,K8:K9) -> 0 | L10: =SUBTOTAL(9,L8:L9) -> 0 | P10: =SUBTOTAL(9,P8:P9) -> 380448 | Q10: =SUBTOTAL(9,Q8:Q9) -> 304400 | R10: =SUBTOTAL(9,R8:R9) -> 0
A11: Total general | I11: =SUBTOTAL(9,I8:I9) -> 380448 | J11: =SUBTOTAL(9,J8:J9) -> 304400 | K11: =SUBTOTAL(9,K8:K9) -> 0 | L11: =SUBTOTAL(9,L8:L9) -> 0 | P11: =SUBTOTAL(9,P8:P9) -> 380448 | Q11: =SUBTOTAL(9,Q8:Q9) -> 304400 | R11: =SUBTOTAL(9,R8:R9) -> 0
A16: PRIMERA CLASE / FISCALES
A17: Acreedor | B17: Nit | C17: Radicado | D17: Fecha de Radicación | E17: Datos Contacto | F17: Ciudad | G17: Naturaleza Obligación / Año / Periodo | H17: N.Factura | I17: Capital | J17: Interés | K17: Saciones | L17: Otros | M17: Vìnculo (Art. 24 Ley 1116 de 2006) | N17: CLASE | O17: SUBCLASE | P17: Reconocido | Q17: Postergado | R17: Rechazado | S17: Observacion | T17: Fecha de Origen Obligación (mes/año) | U17: Fecha de Vencimiento Obligación (mes/año) | V17: Dias de Mora | W17: FECHA ACTUALIZACION | X17: Factor IPC | Y17: Correción | Z17: Valor Capital Vencido-Actualizado IPC DANE | AA17: Derechos de Voto | AB17: Participación Derechos de Voto (%) Total General | AC17: Categoría Artículo 31 Ley 1116 de 2006
A18: Secretaría Distrital de Hacienda | B18: 899.999.061-9 | C18: 2025-01-819611 | D18: 45986 | E18: Carrera 30 No. 25-90 Piso 10 Subdirección de Gestión Judicial Secretaría Distrital de Hacienda, en la ciudad de Bogotá, cmunozo@shd.gov.co, Cel. Personal 3004484776 - 3004313955. | F18: BOGOTA D.C. | G18: ICA 2020 7 | H18: N/A | I18: 5934000 | J18: 6283000 | K18: 0 | L18: 0 | M18: NO | N18: 1 | O18: FISCAL | P18: 5934000 | Q18: 6283000 | R18: 0 | S18: CREDITO RECONOCIDO. Valor postergado por concepto de intereses, causal No.6, art.69 Ley 1116 de 2006 | T18: 43831 | U18: 43831 | V18: 0 | W18: 45931 | X18: 104.24 | Y18: 0.45587107 | Z18: 8639138.9 | AA18: 8639138.9 | AB18: 14.552783 | AC18: CATEGORIA B (ENTIDADES PUBLICAS Y DE SEGURIDAD SOCIAL)
A19: Secretaría Distrital de Hacienda | B19: 899.999.061-9 | C19: 2025-01-819612 | D19: 45986 | E19: Carrera 30 No. 25-90 Piso 10 Subdirección de Gestión Judicial Secretaría Distrital de Hacienda, en la ciudad de Bogotá, cmunozo@shd.gov.co, Cel. Personal 3004484776 - 3004313955. | F19: BOGOTA D.C. | G19: ICA 2021 7 | H19: N/A | I19: 2905000 | J19: 2512000 | K19: 0 | L19: 0 | M19: NO | N19: 1 | O19: FISCAL | P19: 2905000 | Q19: 2512000 | R19: 0 | S19: CREDITO RECONOCIDO. Valor postergado por concepto de intereses, causal No.6, art.69 Ley 1116 de 2006 | T19: 44197 | U19: 44197 | V19: 0 | W19: 45931 | X19: 105.91 | Y19: 0.43291474 | Z19: 4162617.3 | AA19: 4162617.3 | AB19: 7.0120028 | AC19: CATEGORIA B (ENTIDADES PUBLICAS Y DE SEGURIDAD SOCIAL)
A20: Secretaría Distrital de Hacienda | B20: 899.999.061-9 | C20: 2025-01-819613 | D20: 45986 | E20: Carrera 30 No. 25-90 Piso 10 Subdirección de Gestión Judicial Secretaría Distrital de Hacienda, en la ciudad de Bogotá, cmunozo@shd.gov.co, Cel. Personal 3004484776 - 3004313955. | F20: BOGOTA D.C. | G20: ICA 2022 7 | H20: N/A | I20: 3039000 | J20: 1853000 | K20: 0 | L20: 0 | M20: NO | N20: 1 | O20: FISCAL | P20: 3039000 | Q20: 1853000 | R20: 0 | S20: CREDITO RECONOCIDO. Valor postergado por concepto de intereses, causal No.6, art.69 Ley 1116 de 2007 | T20: 44562 | U20: 44562 | V20: 0 | W20: 45931 | X20: 113.26 | Y20: 0.33992583 | Z20: 4072034.6 | AA20: 4072034.6 | AB20: 6.8594146 | AC20: CATEGORIA B (ENTIDADES PUBLICAS Y DE SEGURIDAD SOCIAL)
A21: Secretaría Distrital de Hacienda | B21: 899.999.061-9 | C21: 2025-01-819614 | D21: 45986 | E21: Carrera 30 No. 25-90 Piso 10 Subdirección de Gestión Judicial Secretaría Distrital de Hacienda, en la ciudad de Bogotá, cmunozo@shd.gov.co, Cel. Personal 3004484776 - 3004313955. | F21: BOGOTA D.C. | G21: ICA 2023 7 | H21: N/A | I21: 1292000 | J21: 513000 | K21: 0 | L21: 0 | M21: NO | N21: 1 | O21: FISCAL | P21: 1292000 | Q21: 513000 | R21: 0 | S21: CREDITO RECONOCIDO. Valor postergado por concepto de intereses, causal No.6, art.69 Ley 1116 de 2008 | T21: 44927 | U21: 44927 | V21: 0 | W21: 45931 | X21: 128.27 | Y21: 0.18312934 | Z21: 1528603.1 | AA21: 1528603.1 | AB21: 2.5749591 | AC21: CATEGORIA B (ENTIDADES PUBLICAS Y DE SEGURIDAD SOCIAL)
A22: Secretaría Distrital de Hacienda | B22: 899.999.061-9 | C22: 2025-01-819615 | D22: 45986 | E22: Carrera 30 No. 25-90 Piso 10 Subdirección de Gestión Judicial Secretaría Distrital de Hacienda, en la ciudad de Bogotá, cmunozo@shd.gov.co, Cel. Personal 3004484776 - 3004313955. | F22: BOGOTA D.C. | G22: RETEICA 2020 1 | H22: N/A | I22: 656000 | J22: 853000 | K22: 0 | L22: 0 | M22: NO | N22: 1 | O22: FISCAL | P22: 656000 | Q22: 853000 | R22: 0 | S22: CREDITO RECONOCIDO. Valor postergado por concepto de intereses, causal No.6, art.69 Ley 1116 de 2009 | T22: 43891 | U22: 43891 | V22: 0 | W22: 45931 | X22: 105.53 | Y22: 0.43807448 | Z22: 943376.86 | AA22: 943376.86 | AB22: 1.5891351 | AC22: CATEGORIA B (ENTIDADES PUBLICAS Y DE SEGURIDAD SOCIAL)
A23: Secretaría Distrital de Hacienda | B23: 899.999.061-9 | C23: 2025-01-819616 | D23: 45986 | E23: Carrera 30 No. 25-90 Piso 10 Subdirección de Gestión Judicial Secretaría Distrital de Hacienda, en la ciudad de Bogotá, cmunozo@shd.gov.co, Cel. Personal 3004484776 - 3004313955. | F23: BOGOTA D.C. | G23: RETEICA 2020 2 | H23: N/A | I23: 386000 | J23: 468000 | K23: 0 | L23: 0 | M23: NO | N23: 1 | O23: FISCAL | P23: 386000 | Q23: 468000 | R23: 0 | S23: CREDITO RECONOCIDO. Valor postergado por concepto de intereses, causal No.6, art.69 Ley 1116 de 2010 | T23: 43952 | U23: 43952 | V23: 0 | W23: 45931 | X23: 105.36 | Y23: 0.44039484 | Z23: 555992.41 | AA23: 555992.41 | AB23: 0.93657908 | AC23: CATEGORIA B (ENTIDADES PUBLICAS Y DE SEGURIDAD SOCIAL)
A24: Secretaría Distrital de Hacienda | B24: 899.999.061-9 | C24: 2025-01-819617 | D24: 45986 | E24: Carrera 30 No. 25-90 Piso 10 Subdirección de Gestión Judicial Secretaría Distrital de Hacienda, en la ciudad de Bogotá, cmunozo@shd.gov.co, Cel. Personal 3004484776 - 3004313955. | F24: BOGOTA D.C. | G24: RETEICA 2020 3 | H24: N/A | I24: 111000 | J24: 132000 | K24: 0 | L24: 0 | M24: NO | N24: 1 | O24: FISCAL | P24: 111000 | Q24: 132000 | R24: 0 | S24: CREDITO RECONOCIDO. Valor postergado por concepto de intereses, causal No.6, art.69 Ley 1116 de 2011 | T24: 44013 | U24: 44013 | V24: 0 | W24: 45931 | X24: 104.97 | Y24: 0.4457464 | Z24: 160477.85 | AA24: 160477.85 | AB24: 0.27032779 | AC24: CATEGORIA B (ENTIDADES PUBLICAS Y DE SEGURIDAD SOCIAL)
A25: Secretaría Distrital de Hacienda | B25: 899.999.061-9 | C25: 2025-01-819618 | D25: 45986 | E25: Carrera 30 No. 25-90 Piso 10 Subdirección de Gestión Judicial Secretaría Distrital de Hacienda, en la ciudad de Bogotá, cmunozo@shd.gov.co, Cel. Personal 3004484776 - 3004313955. | F25: BOGOTA D.C. | G25: RETEICA 2020 4 | H25: N/A | I25: 17000 | J25: 20000 | K25: 0 | L25: 0 | M25: NO | N25: 1 | O25: FISCAL | P25: 17000 | Q25: 20000 | R25: 0 | S25: CREDITO RECONOCIDO. Valor postergado por concepto de intereses, causal No.6, art.69 Ley 1116 de 2012 | T25: 44075 | U25: 44075 | V25: 0 | W25: 45931 | X25: 105.29 | Y25: 0.44135246 | Z25: 24502.992 | AA25: 24502.992 | AB25: 0.041275725 | AC25: CATEGORIA B (ENTIDADES PUBLICAS Y DE SEGURIDAD SOCIAL)
A26: Secretaría Distrital de Hacienda | B26: 899.999.061-9 | C26: 2025-01-819619 | D26: 45986 | E26: Carrera 30 No. 25-90 Piso 10 Subdirección de Gestión Judicial Secretaría Distrital de Hacienda, en la ciudad de Bogotá, cmunozo@shd.gov.co, Cel. Personal 3004484776 - 3004313955. | F26: BOGOTA D.C. | G26: RETEICA 2020 5 | H26: N/A | I26: 125000 | J26: 143000 | K26: 0 | L26: 0 | M26: NO | N26: 1 | O26: FISCAL | P26: 125000 | Q26: 143000 | R26: 0 | S26: CREDITO RECONOCIDO. Valor postergado por concepto de intereses, causal No.6, art.69 Ley 1116 de 2013 | T26: 44136 | U26: 44136 | V26: 0 | W26: 45931 | X26: 105.08 | Y26: 0.44423297 | Z26: 180529.12 | AA26: 180529.12 | AB26: 0.30410451 | AC26: CATEGORIA B (ENTIDADES PUBLICAS Y DE SEGURIDAD SOCIAL)
A27: Secretaría Distrital de Hacienda | B27: 899.999.061-9 | C27: 2025-01-819620 | D27: 45986 | E27: Carrera 30 No. 25-90 Piso 10 Subdirección de Gestión Judicial Secretaría Distrital de Hacienda, en la ciudad de Bogotá, cmunozo@shd.gov.co, Cel. Personal 3004484776 - 3004313955. | F27: BOGOTA D.C. | G27: RETEICA 2020 6 | H27: N/A | I27: 2523000 | J27: 2781000 | K27: 0 | L27: 0 | M27: NO | N27: 1 | O27: FISCAL | P27: 2523000 | Q27: 2781000 | R27: 0 | S27: CREDITO RECONOCIDO. Valor postergado por concepto de intereses, causal No.6, art.69 Ley 1116 de 2014 | T27: 44197 | U27: 44197 | V27: 0 | W27: 45931 | X27: 105.91 | Y27: 0.43291474 | Z27: 3615243.9 | AA27: 3615243.9 | AB27: 6.0899425 | AC27: CATEGORIA B (ENTIDADES PUBLICAS Y DE SEGURIDAD SOCIAL)
A28: Secretaría Distrital de Hacienda | B28: 899.999.061-9 | C28: 2025-01-819621 | D28: 45986 | E28: Carrera 30 No. 25-90 Piso 10 Subdirección de Gestión Judicial Secretaría Distrital de Hacienda, en la ciudad de Bogotá, cmunozo@shd.gov.co, Cel. Personal 3004484776 - 3004313955. | F28: BOGOTA D.C. | G28: RETEICA 2021 1 | H28: N/A | I28: 262000 | J28: 276000 | K28: 0 | L28: 0 | M28: NO | N28: 1 | O28: FISCAL | P28: 262000 | Q28: 276000 | R28: 0 | S28: CREDITO RECONOCIDO. Valor postergado por concepto de intereses, causal No.6, art.69 Ley 1116 de 2015 | T28: 44256 | U28: 44256 | V28: 0 | W28: 45931 | X28: 107.12 | Y28: 0.4167289 | Z28: 371182.97 | AA28: 371182.97 | AB28: 0.62526431 | AC28: CATEGORIA B (ENTIDADES PUBLICAS Y DE SEGURIDAD SOCIAL)
A29: Secretaría Distrital de Hacienda | B29: 899.999.061-9 | C29: 2025-01-819622 | D29: 45986 | E29: Carrera 30 No. 25-90 Piso 10 Subdirección de Gestión Judicial Secretaría Distrital de Hacienda, en la ciudad de Bogotá, cmunozo@shd.gov.co, Cel. Personal 3004484776 - 3004313955. | F29: BOGOTA D.C. | G29: RETEICA 2021 2 | H29: N/A | I29: 760000 | J29: 769000 | K29: 0 | L29: 0 | M29: NO | N29: 1 | O29: FISCAL | P29: 760000 | Q29: 769000 | R29: 0 | S29: CREDITO RECONOCIDO. Valor postergado por concepto de intereses, causal No.6, art.69 Ley 1116 de 2016 | T29: 44317 | U29: 44317 | V29: 0 | W29: 45931 | X29: 108.84 | Y29: 0.39434032 | Z29: 1059698.6 | AA29: 1059698.6 | AB29: 1.7850812 | AC29: CATEGORIA B (ENTIDADES PUBLICAS Y DE SEGURIDAD SOCIAL)
... A49: Secretaría Distrital de Hacienda | B49: 899.999.061-9 | C49: 2025-01-819642 | D49: 45986 | E49: Carrera 30 No. 25-90 Piso 10 Subdirección de Gestión Judicial Secretaría Distrital de Hacienda, en la ciudad de Bogotá, cmunozo@shd.gov.co, Cel. Personal 3004484776 - 3004313955. | F49: BOGOTA D.C. | G49: RETEICA 2024 4 | H49: N/A | I49: 6000 | J49: 2000 | K49: 0 | L49: 0 | M49: NO | N49: 1 | O49: FISCAL | P49: 6000 | Q49: 2000 | R49: 0 | S49: CREDITO RECONOCIDO. Valor postergado por concepto de intereses, causal No.6, art.69 Ley 1116 de 2036 | T49: 45536 | U49: 45536 | V49: 0 | W49: 45931 | X49: 144.02 | Y49: 0.053742536 | Z49: 6322.4552 | AA49: 6322.4552 | AB49: 0.010650288 | AC49: CATEGORIA B (ENTIDADES PUBLICAS Y DE SEGURIDAD SOCIAL)
A50: Total Secretaría Distrital de Hacienda | I50: =SUBTOTAL(9,I18:I49) -> 23525000 | J50: =SUBTOTAL(9,J18:J49) -> 20318000 | K50: =SUBTOTAL(9,K18:K49) -> 0 | L50: =SUBTOTAL(9,L18:L49) -> 0 | P50: =SUBTOTAL(9,P18:P49) -> 23525000 | Q50: =SUBTOTAL(9,Q18:Q49) -> 20318000 | R50: =SUBTOTAL(9,R18:R49) -> 0
A51: Superintendencia de Sociedades | C51: 2025-02-839733 | D51: 45966 | E51: Avda. el Dorado No 51 – 80 piso 2 Oficina 2114 asmoreno@supersociedades.gov.co | F51: BOGOTA D.C. | G51: CONTRIBUCION 2025 | H51: 187455 | I51: 1423500 | J51: 26000 | K51: 0 | L51: 0 | M51: NO | N51: 1 | O51: FISCAL | P51: 1423500 | Q51: 26000 | R51: 0 | S51: CREDITO RECONOCIDO. Valor postergado por concepto de intereses, causal No.6, art.69 Ley 1116 de 2037 | T51: 45658 | U51: 45931 | V51: 273 | W51: 45931 | X51: 151.76 | Y51: 0 | Z51: 1423500 | AA51: 1423500 | AB51: 2.397911 | AC51: CATEGORIA B (ENTIDADES PUBLICAS Y DE SEGURIDAD SOCIAL)
A52: Total Superintendencia de Sociedades | I52: =SUBTOTAL(9,I51:I51) -> 1423500 | J52: =SUBTOTAL(9,J51:J51) -> 26000 | K52: =SUBTOTAL(9,K51:K51) -> 0 | L52: =SUBTOTAL(9,L51:L51) -> 0 | P52: =SUBTOTAL(9,P51:P51) -> 1423500 | Q52: =SUBTOTAL(9,Q51:Q51) -> 26000 | R52: =SUBTOTAL(9,R51:R51) -> 0
A53: Total general | I53: =SUBTOTAL(9,I18:I51) -> 24948500 | J53: =SUBTOTAL(9,J18:J51) -> 20344000 | K53: =SUBTOTAL(9,K18:K51) -> 0 | L53: =SUBTOTAL(9,L18:L51) -> 0 | P53: =SUBTOTAL(9,P18:P51) -> 24948500 | Q53: =SUBTOTAL(9,Q18:Q51) -> 20344000 | R53: =SUBTOTAL(9,R18:R51) -> 0
A58: PRIMERA CLASE / PARAFISCAL
A59: Acreedor | B59: Nit | C59: Radicado | D59: Fecha de Radicación | E59: Datos Contacto | F59: Ciudad | G59: Naturaleza Obligación / Año / Periodo | H59: N.Factura | I59: Capital | J59: Interés | K59: Saciones | L59: Otros | M59: Vìnculo (Art. 24 Ley 1116 de 2006) | N59: CLASE | O59: SUBCLASE | P59: Reconocido | Q59: Postergado | R59: Rechazado | S59: Observacion | T59: Fecha de Origen Obligación (mes/año) | U59: Fecha de Vencimiento Obligación (mes/año) | V59: Dias de Mora | W59: FECHA ACTUALIZACION | X59: Factor IPC | Y59: Correción | Z59: Valor Capital Vencido-Actualizado IPC DANE | AA59: Derechos de Voto | AB59: Participación Derechos de Voto (%) Total General | AC59: Categoría Artículo 31 Ley 1116 de 2006
A60: CAJA DE COMPENSACIÓN FAMILIAR COMPENSAR | B60: 860.066.942-7 | C60: 2025-01-835245 | D60: 45993 | E60: El apoderado en Calle 41a #8-25 Apto 202 Torre 1 Edificio Bulevar 42, Chapinero, de la ciudad de Bogotá D.C., móvil: 304 3431817 email: bjjimenezm@compensar.com El poderdante las recibe en la Avenida 68 No. 49 A - 47 Torre D piso 3 Bogotá D.C. | F60: BOGOTA D.C. | G60: Ajuste Aportes parafiscales de Aura Maria Millan Villa | H60: Memorando No. 924 | I60: 36600 | J60: 0 | K60: 0 | L60: 0 | M60: NO | N60: 1 | O60: PARAFISCAL | P60: 36600 | Q60: 0 | R60: 0 | S60: CREDITO RECONOCIDO | T60: 44682 | U60: 44713 | V60: 31 | W60: 45931 | X60: 119.31 | Y60: 0.27198055 | Z60: 46554.488 | AA60: 46554.488 | AB60: 0.078421862 | AC60: CATEGORIA B (ENTIDADES PUBLICAS Y DE SEGURIDAD SOCIAL)
A61: CAJA DE COMPENSACIÓN FAMILIAR COMPENSAR | B61: 860.066.942-7 | C61: 2025-01-835245 | D61: 45993 | E61: El apoderado en Calle 41a #8-25 Apto 202 Torre 1 Edificio Bulevar 42, Chapinero, de la ciudad de Bogotá D.C., móvil: 304 3431817 email: bjjimenezm@compensar.com El poderdante las recibe en la Avenida 68 No. 49 A - 47 Torre D piso 3 Bogotá D.C. | F61: BOGOTA D.C. | G61: Aportes parafiscales del RENATA BOLIVAR BUSTAMANTE | H61: Memorando No. 924 | I61: 9652 | J61: 0 | K61: 0 | L61: 0 | M61: NO | N61: 1 | O61: PARAFISCAL | P61: 9652 | Q61: 0 | R61: 0 | S61: CREDITO RECONOCIDO | T61: 44440 | U61: 44470 | V61: 30 | W61: 45931 | X61: 110.06 | Y61: 0.37888424 | Z61: 13308.991 | AA61: 13308.991 | AB61: 0.022419231 | AC61: CATEGORIA B (ENTIDADES PUBLICAS Y DE SEGURIDAD SOCIAL)
A62: CAJA DE COMPENSACIÓN FAMILIAR COMPENSAR | B62: 860.066.942-7 | C62: 2025-01-835245 | D62: 45993 | E62: El apoderado en Calle 41a #8-25 Apto 202 Torre 1 Edificio Bulevar 42, Chapinero, de la ciudad de Bogotá D.C., móvil: 304 3431817 email: bjjimenezm@compensar.com El poderdante las recibe en la Avenida 68 No. 49 A - 47 Torre D piso 3 Bogotá D.C. | F62: BOGOTA D.C. | G62: Aportes parafiscales de PAOLA ANDREA RUGELES RUEDA | H62: Memorando No. 924 | I62: 10504 | J62: 0 | K62: 0 | L62: 0 | M62: NO | N62: 1 | O62: PARAFISCAL | P62: 10504 | Q62: 0 | R62: 0 | S62: CREDITO RECONOCIDO | T62: 44440 | U62: 44470 | V62: 30 | W62: 45931 | X62: 110.06 | Y62: 0.37888424 | Z62: 14483.8 | AA62: 14483.8 | AB62: 0.024398219 | AC62: CATEGORIA B (ENTIDADES PUBLICAS Y DE SEGURIDAD SOCIAL)
A63: CAJA DE COMPENSACIÓN FAMILIAR COMPENSAR | B63: 860.066.942-7 | C63: 2025-01-835245 | D63: 45993 | E63: El apoderado en Calle 41a #8-25 Apto 202 Torre 1 Edificio Bulevar 42, Chapinero, de la ciudad de Bogotá D.C., móvil: 304 3431817 email: bjjimenezm@compensar.com El poderdante las recibe en la Avenida 68 No. 49 A - 47 Torre D piso 3 Bogotá D.C. | F63: BOGOTA D.C. | G63: Aportes parafiscales de KATHERINE SOFIA BAEZ RODRIGUEZ | H63: Memorando No. 924 | I63: 19911 | J63: 0 | K63: 0 | L63: 0 | M63: NO | N63: 1 | O63: PARAFISCAL | P63: 19911 | Q63: 0 | R63: 0 | S63: CREDITO RECONOCIDO | T63: 44593 | U63: 44621 | V63: 28 | W63: 45931 | X63: 116.26 | Y63: 0.30535008 | Z63: 25990.825 | AA63: 25990.825 | AB63: 0.043782007 | AC63: CATEGORIA B (ENTIDADES PUBLICAS Y DE SEGURIDAD SOCIAL)
A64: CAJA DE COMPENSACIÓN FAMILIAR COMPENSAR | B64: 860.066.942-7 | C64: 2025-01-835245 | D64: 45993 | E64: El apoderado en Calle 41a #8-25 Apto 202 Torre 1 Edificio Bulevar 42, Chapinero, de la ciudad de Bogotá D.C., móvil: 304 3431817 email: bjjimenezm@compensar.com El poderdante las recibe en la Avenida 68 No. 49 A - 47 Torre D piso 3 Bogotá D.C. | F64: BOGOTA D.C. | G64: Aportes parafiscales de BRUNO MATEO SOLANO SORIA | H64: Memorando No. 924 | I64: 93333 | J64: 0 | K64: 0 | L64: 0 | M64: NO | N64: 1 | O64: PARAFISCAL | P64: 93333 | Q64: 0 | R64: 0 | S64: CREDITO RECONOCIDO | T64: 44593 | U64: 44621 | V64: 28 | W64: 45931 | X64: 116.26 | Y64: 0.30535008 | Z64: 121832.24 | AA64: 121832.24 | AB64: 0.20522857 | AC64: CATEGORIA B (ENTIDADES PUBLICAS Y DE SEGURIDAD SOCIAL)
A65: CAJA DE COMPENSACIÓN FAMILIAR COMPENSAR | B65: 860.066.942-7 | C65: 2025-01-835245 | D65: 45993 | E65: El apoderado en Calle 41a #8-25 Apto 202 Torre 1 Edificio Bulevar 42, Chapinero, de la ciudad de Bogotá D.C., móvil: 304 3431817 email: bjjimenezm@compensar.com El poderdante las recibe en la Avenida 68 No. 49 A - 47 Torre D piso 3 Bogotá D.C. | F65: BOGOTA D.C. | G65: Aportes parafiscales de BRUNO MATEO SOLANO SORIA | H65: Memorando No. 924 | I65: 29166 | J65: 0 | K65: 0 | L65: 0 | M65: NO | N65: 1 | O65: PARAFISCAL | P65: 29166 | Q65: 0 | R65: 0 | S65: CREDITO RECONOCIDO | T65: 44774 | U65: 45901 | V65: 1127 | W65: 45931 | X65: 151.48 | Y65: 0.0018484288 | Z65: 29219.911 | AA65: 29219.911 | AB65: 0.04922146 | AC65: CATEGORIA B (ENTIDADES PUBLICAS Y DE SEGURIDAD SOCIAL)
A66: Total CAJA DE COMPENSACIÓN FAMILIAR COMPENSAR | I66: =SUBTOTAL(9,I60:I65) -> 199166 | J66: =SUBTOTAL(9,J60:J65) -> 0 | K66: =SUBTOTAL(9,K60:K65) -> 0 | L66: =SUBTOTAL(9,L60:L65) -> 0 | P66: =SUBTOTAL(9,P60:P65) -> 199166 | Q66: =SUBTOTAL(9,Q60:Q65) -> 0 | R66: =SUBTOTAL(9,R60:R65) -> 0
A67: Total general | I67: =SUBTOTAL(9,I60:I65) -> 199166 | J67: =SUBTOTAL(9,J60:J65) -> 0 | K67: =SUBTOTAL(9,K60:K65) -> 0 | L67: =SUBTOTAL(9,L60:L65) -> 0 | P67: =SUBTOTAL(9,P60:P65) -> 199166 | Q67: =SUBTOTAL(9,Q60:Q65) -> 0 | R67: =SUBTOTAL(9,R60:R65) -> 0
A72: QUINTA CLASE / QUIROGRAFARIO
A73: Acreedor | B73: Nit | C73: Radicado | D73: Fecha de Radicación | E73: Datos Contacto | F73: Ciudad | G73: Naturaleza Obligación / Año / Periodo | H73: N.Factura | I73: Capital | J73: Interés | K73: Saciones | L73: Otros | M73: Vìnculo (Art. 24 Ley 1116 de 2006) | N73: CLASE | O73: SUBCLASE | P73: Reconocido | Q73: Postergado | R73: Rechazado | S73: Observacion | T73: Fecha de Origen Obligación (mes/año) | U73: Fecha de Vencimiento Obligación (mes/año) | V73: Dias de Mora | W73: FECHA ACTUALIZACION | X73: Factor IPC | Y73: Correción | Z73: Valor Capital Vencido-Actualizado IPC DANE | AA73: Derechos de Voto | AB73: Participación Derechos de Voto (%) Total General | AC73: Categoría Artículo 31 Ley 1116 de 2006
A74: BBVA COLOMBIA S.A | B74: 860.003.020-1 | C74: 2025-01-785781 | D74: 45971 | E74: El apoderado recibirá notificaciones la oficina ubicada en la Carrera 13 No. 32-51, Of. 503, de Bogotá, correo electrónico ncasesoriasjuridicas@hotmail.com El poderdante recibirá notificaciones en la Carrera 9 No. 72-21 Piso 10 de Bogotá, correo electrónico notifica.co@bbva.com. | F74: BOGOTA D.C. | H74: 1.3007332e+17 | I74: 21273474 | J74: 0 | K74: 0 | L74: 0 | M74: NO | N74: 5 | O74: QUIROGRAFARIO | P74: 21273474 | Q74: 0 | R74: 0 | S74: CREDITO RECONOCIDO | T74: 45717 | U74: 45717 | V74: 0 | W74: 45931 | X74: 148.68 | Y74: 0.020715631 | Z74: 21714167 | AA74: 21714167 | AB74: 36.577901 | AC74: CATEGORÍA C (INSTITUCIONES FINANCIERAS Y VIGILADAS)
...

Sheet DERECHOS DE VOTO
A1: DERECHOS DE VOTO - PERAL SORIA SAS (CORTE OCT-2025)
A4: CATEGORIA B (ENTIDADES PUBLICAS Y DE SEGURIDAD SOCIAL
A5: Acreedor | B5: Nit | C5: Radicado | D5: Fecha de Radicación | E5: Datos Contacto | F5: Ciudad | G5: Naturaleza Obligación / Año / Periodo | H5: N.Factura | I5: Capital | J5: Interés | K5: Saciones | L5: Otros | M5: Vìnculo (Art. 24 Ley 1116 de 2006) | N5: CLASE | O5: SUBCLASE | P5: Reconocido | Q5: Postergado | R5: Rechazado | S5: Observacion | T5: Fecha de Origen Obligación (mes/año) | U5: Fecha de Vencimiento Obligación (mes/año) | V5: Dias de Mora | W5: FECHA ACTUALIZACION | X5: Factor IPC | Y5: Correción | Z5: Valor Capital Vencido-Actualizado IPC DANE | AA5: Derechos de Voto | AB5: Participación Derechos de Voto (%) Total General | AC5: Categoría Artículo 31 Ley 1116 de 2006
A6: CAJA DE COMPENSACIÓN FAMILIAR COMPENSAR | B6: 860.066.942-7 | C6: 2025-01-835245 | D6: 45993 | E6: El apoderado en Calle 41a #8-25 Apto 202 Torre 1 Edificio Bulevar 42, Chapinero, de la ciudad de Bogotá D.C., móvil: 304 3431817 email: bjjimenezm@compensar.com El poderdante las recibe en la Avenida 68 No. 49 A - 47 Torre D piso 3 Bogotá D.C. | F6: BOGOTA D.C. | G6: Ajuste Aportes parafiscales de Aura Maria Millan Villa | H6: Memorando No. 924 | I6: 36600 | J6: 0 | K6: 0 | L6: 0 | M6: NO | N6: 1 | O6: PARAFISCAL | P6: 36600 | Q6: 0 | R6: 0 | S6: CREDITO RECONOCIDO | T6: 44682 | U6: 44713 | V6: 31 | W6: 45931 | X6: 119.31 | Y6: 0.27198055 | Z6: 46554.488 | AA6: 46554.488 | AB6: 0.078421862 | AC6: CATEGORIA B (ENTIDADES PUBLICAS Y DE SEGURIDAD SOCIAL)
A7: CAJA DE COMPENSACIÓN FAMILIAR COMPENSAR | B7: 860.066.942-7 | C7: 2025-01-835245 | D7: 45993 | E7: El apoderado en Calle 41a #8-25 Apto 202 Torre 1 Edificio Bulevar 42, Chapinero, de la ciudad de Bogotá D.C., móvil: 304 3431817 email: bjjimenezm@compensar.com El poderdante las recibe en la Avenida 68 No. 49 A - 47 Torre D piso 3 Bogotá D.C. | F7: BOGOTA D.C. | G7: Aportes parafiscales del RENATA BOLIVAR BUSTAMANTE | H7: Memorando No. 924 | I7: 9652 | J7: 0 | K7: 0 | L7: 0 | M7: NO | N7: 1 | O7: PARAFISCAL | P7: 9652 | Q7: 0 | R7: 0 | S7: CREDITO RECONOCIDO | T7: 44440 | U7: 44470 | V7: 30 | W7: 45931 | X7: 110.06 | Y7: 0.37888424 | Z7: 13308.991 | AA7: 13308.991 | AB7: 0.022419231 | AC7: CATEGORIA B (ENTIDADES PUBLICAS Y DE SEGURIDAD SOCIAL)
A8: CAJA DE COMPENSACIÓN FAMILIAR COMPENSAR | B8: 860.066.942-7 | C8: 2025-01-835245 | D8: 45993 | E8: El apoderado en Calle 41a #8-25 Apto 202 Torre 1 Edificio Bulevar 42, Chapinero, de la ciudad de Bogotá D.C., móvil: 304 3431817 email: bjjimenezm@compensar.com El poderdante las recibe en la Avenida 68 No. 49 A - 47 Torre D piso 3 Bogotá D.C. | F8: BOGOTA D.C. | G8: Aportes parafiscales de PAOLA ANDREA RUGELES RUEDA | H8: Memorando No. 924 | I8: 10504 | J8: 0 | K8: 0 | L8: 0 | M8: NO | N8: 1 | O8: PARAFISCAL | P8: 10504 | Q8: 0 | R8: 0 | S8: CREDITO RECONOCIDO | T8: 44440 | U8: 44470 | V8: 30 | W8: 45931 | X8: 110.06 | Y8: 0.37888424 | Z8: 14483.8 | AA8: 14483.8 | AB8: 0.024398219 | AC8: CATEGORIA B (ENTIDADES PUBLICAS Y DE SEGURIDAD SOCIAL)
A9: CAJA DE COMPENSACIÓN FAMILIAR COMPENSAR | B9: 860.066.942-7 | C9: 2025-01-835245 | D9: 45993 | E9: El apoderado en Calle 41a #8-25 Apto 202 Torre 1 Edificio Bulevar 42, Chapinero, de la ciudad de Bogotá D.C., móvil: 304 3431817 email: bjjimenezm@compensar.com El poderdante las recibe en la Avenida 68 No. 49 A - 47 Torre D piso 3 Bogotá D.C. | F9: BOGOTA D.C. | G9: Aportes parafiscales de KATHERINE SOFIA BAEZ RODRIGUEZ | H9: Memorando No. 924 | I9: 19911 | J9: 0 | K9: 0 | L9: 0 | M9: NO | N9: 1 | O9: PARAFISCAL | P9: 19911 | Q9: 0 | R9: 0 | S9: CREDITO RECONOCIDO | T9: 44593 | U9: 44621 | V9: 28 | W9: 45931 | X9: 116.26 | Y9: 0.30535008 | Z9: 25990.825 | AA9: 25990.825 | AB9: 0.043782007 | AC9: CATEGORIA B (ENTIDADES PUBLICAS Y DE SEGURIDAD SOCIAL)
A10: CAJA DE COMPENSACIÓN FAMILIAR COMPENSAR | B10: 860.066.942-7 | C10: 2025-01-835245 | D10: 45993 | E10: El apoderado en Calle 41a #8-25 Apto 202 Torre 1 Edificio Bulevar 42, Chapinero, de la ciudad de Bogotá D.C., móvil: 304 3431817 email: bjjimenezm@compensar.com El poderdante las recibe en la Avenida 68 No. 49 A - 47 Torre D piso 3 Bogotá D.C. | F10: BOGOTA D.C. | G10: Aportes parafiscales de BRUNO MATEO SOLANO SORIA | H10: Memorando No. 924 | I10: 93333 | J10: 0 | K10: 0 | L10: 0 | M10: NO | N10: 1 | O10: PARAFISCAL | P10: 93333 | Q10: 0 | R10: 0 | S10: CREDITO RECONOCIDO | T10: 44593 | U10: 44621 | V10: 28 | W10: 45931 | X10: 116.26 | Y10: 0.30535008 | Z10: 121832.24 | AA10: 121832.24 | AB10: 0.20522857 | AC10: CATEGORIA B (ENTIDADES PUBLICAS Y DE SEGURIDAD SOCIAL)
A11: CAJA DE COMPENSACIÓN FAMILIAR COMPENSAR | B11: 860.066.942-7 | C11: 2025-01-835245 | D11: 45993 | E11: El apoderado en Calle 41a #8-25 Apto 202 Torre 1 Edificio Bulevar 42, Chapinero, de la ciudad de Bogotá D.C., móvil: 304 3431817 email: bjjimenezm@compensar.com El poderdante las recibe en la Avenida 68 No. 49 A - 47 Torre D piso 3 Bogotá D.C. | F11: BOGOTA D.C. | G11: Aportes parafiscales de BRUNO MATEO SOLANO SORIA | H11: Memorando No. 924 | I11: 29166 | J11: 0 | K11: 0 | L11: 0 | M11: NO | N11: 1 | O11: PARAFISCAL | P11: 29166 | Q11: 0 | R11: 0 | S11: CREDITO RECONOCIDO | T11: 44774 | U11: 45901 | V11: 1127 | W11: 45931 | X11: 151.48 | Y11: 0.0018484288 | Z11: 29219.911 | AA11: 29219.911 | AB11: 0.04922146 | AC11: CATEGORIA B (ENTIDADES PUBLICAS Y DE SEGURIDAD SOCIAL)
A12: Total CAJA DE COMPENSACIÓN FAMILIAR COMPENSAR | I12: =SUBTOTAL(9,I6:I11) -> 199166 | J12: =SUBTOTAL(9,J6:J11) -> 0 | K12: =SUBTOTAL(9,K6:K11) -> 0 | L12: =SUBTOTAL(9,L6:L11) -> 0 | P12: =SUBTOTAL(9,P6:P11) -> 199166 | Q12: =SUBTOTAL(9,Q6:Q11) -> 0 | R12: =SUBTOTAL(9,R6:R11) -> 0 | Z12: =SUBTOTAL(9,Z6:Z11) -> 251390.25 | AA12: =SUBTOTAL(9,AA6:AA11) -> 251390.25 | AB12: =SUBTOTAL(9,AB6:AB11) -> 0.42347135
A13: SOCIEDAD ADMINISTRADORA DE FONDOS DE PENSIONES Y CESANTIAS PORVENIR S.A. | B13: 800144331 | C13: 2025-01-728138 | D13: 45987 | E13: Los abogados recibirán en la ciudad de Bogotá, en la Calle 38 # 8-56 OFC 203 de Bogotá. El poderdante recibirá en la Carrera 13 # 27 – 75 de Bogotá, o en la Secretaría Administrativa de esa Intendencia. | F13: BOGOTA D.C. | G13: Aportes pensionales GARCIA PUELLO ANTARES DE LAS ESTRELLAS | H13: N/A | I13: 240000 | J13: 80600 | K13: 0 | L13: 0 | M13: NO | N13: 1 | O13: SEGURIDAD SOCIAL | P13: 240000 | Q13: 80600 | R13: 0 | S13: CREDITO RECONOCIDO. Valor postergado por concepto de intereses, causal No.6, art.69 Ley 1116 de 2006 | T13: 43952 | U13: 43952 | V13: 0 | W13: 45931 | X13: 105.36 | Y13: 0.44039484 | Z13: 345694.76 | AA13: 345694.76 | AB13: 0.58232896 | AC13: CATEGORIA B (ENTIDADES PUBLICAS Y DE SEGURIDAD SOCIAL)
A14: SOCIEDAD ADMINISTRADORA DE FONDOS DE PENSIONES Y CESANTIAS PORVENIR S.A. | B14: 800144331 | C14: 2025-01-728138 | D14: 45987 | E14: Los abogados recibirán en la ciudad de Bogotá, en la Calle 38 # 8-56 OFC 203 de Bogotá. El poderdante recibirá en la Carrera 13 # 27 – 75 de Bogotá, o en la Secretaría Administrativa de esa Intendencia. | F14: BOGOTA D.C. | G14: Aportes pensionales MARIA PAULA VILLARRAGA SEDANO | H14: N/A | I14: 140448 | J14: 223800 | K14: 0 | L14: 0 | M14: NO | N14: 1 | O14: SEGURIDAD SOCIAL | P14: 140448 | Q14: 223800 | R14: 0 | S14: CREDITO RECONOCIDO. Valor postergado por concepto de intereses, causal No.6, art.69 Ley 1116 de 2006 | T14: 43891 | U14: 43952 | V14: 61 | W14: 45931 | X14: 105.36 | Y14: 0.44039484 | Z14: 202300.57 | AA14: 202300.57 | AB14: 0.34077891 | AC14: CATEGORIA B (ENTIDADES PUBLICAS Y DE SEGURIDAD SOCIAL)
A15: Total SOCIEDAD ADMINISTRADORA DE FONDOS DE PENSIONES Y CESANTIAS PORVENIR S.A. | I15: =SUBTOTAL(9,I13:I14) -> 380448 | J15: =SUBTOTAL(9,J13:J14) -> 304400 | K15: =SUBTOTAL(9,K13:K14) -> 0 | L15: =SUBTOTAL(9,L13:L14) -> 0 | P15: =SUBTOTAL(9,P13:P14) -> 380448 | Q15: =SUBTOTAL(9,Q13:Q14) -> 304400 | R15: =SUBTOTAL(9,R13:R14) -> 0 | Z15: =SUBTOTAL(9,Z13:Z14) -> 547995.33 | AA15: =SUBTOTAL(9,AA13:AA14) -> 547995.33 | AB15: =SUBTOTAL(9,AB13:AB14) -> 0.92310787
A16: Secretaría Distrital de Hacienda | B16: 899.999.061-9 | C16: 2025-01-819611 | D16: 45986 | E16: Carrera 30 No. 25-90 Piso 10 Subdirección de Gestión Judicial Secretaría Distrital de Hacienda, en la ciudad de Bogotá, cmunozo@shd.gov.co, Cel. Personal 3004484776 - 3004313955. | F16: BOGOTA D.C. | G16: ICA 2020 7 | H16: N/A | I16: 5934000 | J16: 6283000 | K16: 0 | L16: 0 | M16: NO | N16: 1 | O16: FISCAL | P16: 5934000 | Q16: 6283000 | R16: 0 | S16: CREDITO RECONOCIDO. Valor postergado por concepto de intereses, causal No.6, art.69 Ley 1116 de 2006 | T16: 43831 | U16: 43831 | V16: 0 | W16: 45931 | X16: 104.24 | Y16: 0.45587107 | Z16: 8639138.9 | AA16: 8639138.9 | AB16: 14.552783 | AC16: CATEGORIA B (ENTIDADES PUBLICAS Y DE SEGURIDAD SOCIAL)
A17: Secretaría Distrital de Hacienda | B17: 899.999.061-9 | C17: 2025-01-819611 | D17: 45986 | E17: Carrera 30 No. 25-90 Piso 10 Subdirección de Gestión Judicial Secretaría Distrital de Hacienda, en la ciudad de Bogotá, cmunozo@shd.gov.co, Cel. Personal 3004484776 - 3004313955. | F17: BOGOTA D.C. | G17: ICA 2020 7 | H17: N/A | I17: 0 | J17: 0 | K17: 2325000 | L17: 0 | M17: NO | N17: 5 | P17: 2325000 | Q17: 0 | R17: 0 | S17: CREDITO RECONOCIDO | T17: 43831 | U17: 43831 | V17: 0 | W17: 45931 | X17: 104.24 | Y17: 0.45587107 | Z17: 3384900.2 | AA17: 3384900.2 | AB17: 5.7019246 | AC17: CATEGORIA B (ENTIDADES PUBLICAS Y DE SEGURIDAD SOCIAL)
A18: Secretaría Distrital de Hacienda | B18: 899.999.061-9 | C18: 2025-01-819612 | D18: 45986 | E18: Carrera 30 No. 25-90 Piso 10 Subdirección de Gestión Judicial Secretaría Distrital de Hacienda, en la ciudad de Bogotá, cmunozo@shd.gov.co, Cel. Personal 3004484776 - 3004313955. | F18: BOGOTA D.C. | G18: ICA 2021 7 | H18: N/A | I18: 2905000 | J18: 2512000 | K18: 0 | L18: 0 | M18: NO | N18: 1 | O18: FISCAL | P18: 2905000 | Q18: 2512000 | R18: 0 | S18: CREDITO RECONOCIDO. Valor postergado por concepto de intereses, causal No.6, art.69 Ley 1116 de 2006 | T18: 44197 | U18: 44197 | V18: 0 | W18: 45931 | X18: 105.91 | Y18: 0.43291474 | Z18: 4162617.3 | AA18: 4162617.3 | AB18: 7.0120028 | AC18: CATEGORIA B (ENTIDADES PUBLICAS Y DE SEGURIDAD SOCIAL)
A19: Secretaría Distrital de Hacienda | B19: 899.999.061-9 | C19: 2025-01-819613 | D19: 45986 | E19: Carrera 30 No. 25-90 Piso 10 Subdirección de Gestión Judicial Secretaría Distrital de Hacienda, en la ciudad de Bogotá, cmunozo@shd.gov.co, Cel. Personal 3004484776 - 3004313955. | F19: BOGOTA D.C. | G19: ICA 2022 7 | H19: N/A | I19: 3039000 | J19: 1853000 | K19: 0 | L19: 0 | M19: NO | N19: 1 | O19: FISCAL | P19: 3039000 | Q19: 1853000 | R19: 0 | S19: CREDITO RECONOCIDO. Valor postergado por concepto de intereses, causal No.6, art.69 Ley 1116 de 2007 | T19: 44562 | U19: 44562 | V19: 0 | W19: 45931 | X19: 113.26 | Y19: 0.33992583 | Z19: 4072034.6 | AA19: 4072034.6 | AB19: 6.8594146 | AC19: CATEGORIA B (ENTIDADES PUBLICAS Y DE SEGURIDAD SOCIAL)
A20: Secretaría Distrital de Hacienda | B20: 899.999.061-9 | C20: 2025-01-819614 | D20: 45986 | E20: Carrera 30 No. 25-90 Piso 10 Subdirección de Gestión Judicial Secretaría Distrital de Hacienda, en la ciudad de Bogotá, cmunozo@shd.gov.co, Cel. Personal 3004484776 - 3004313955. | F20: BOGOTA D.C. | G20: ICA 2023 7 | H20: N/A | I20: 1292000 | J20: 513000 | K20: 0 | L20: 0 | M20: NO | N20: 1 | O20: FISCAL | P20: 1292000 | Q20: 513000 | R20: 0 | S20: CREDITO RECONOCIDO. Valor postergado por concepto de intereses, causal No.6, art.69 Ley 1116 de 2008 | T20: 44927 | U20: 44927 | V20: 0 | W20: 45931 | X20: 128.27 | Y20: 0.18312934 | Z20: 1528603.1 | AA20: 1528603.1 | AB20: 2.5749591 | AC20: CATEGORIA B (ENTIDADES PUBLICAS Y DE SEGURIDAD SOCIAL)
A21: Secretaría Distrital de Hacienda | B21: 899.999.061-9 | C21: 2025-01-819615 | D21: 45986 | E21: Carrera 30 No. 25-90 Piso 10 Subdirección de Gestión Judicial Secretaría Distrital de Hacienda, en la ciudad de Bogotá, cmunozo@shd.gov.co, Cel. Personal 3004484776 - 3004313955. | F21: BOGOTA D.C. | G21: RETEICA 2020 1 | H21: N/A | I21: 656000 | J21: 853000 | K21: 0 | L21: 0 | M21: NO | N21: 1 | O21: FISCAL | P21: 656000 | Q21: 853000 | R21: 0 | S21: CREDITO RECONOCIDO. Valor postergado por concepto de intereses, causal No.6, art.69 Ley 1116 de 2009 | T21: 43891 | U21: 43891 | V21: 0 | W21: 45931 | X21: 105.53 | Y21: 0.43807448 | Z21: 943376.86 | AA21: 943376.86 | AB21: 1.5891351 | AC21: CATEGORIA B (ENTIDADES PUBLICAS Y DE SEGURIDAD SOCIAL)
A22: Secretaría Distrital de Hacienda | B22: 899.999.061-9 | C22: 2025-01-819616 | D22: 45986 | E22: Carrera 30 No. 25-90 Piso 10 Subdirección de Gestión Judicial Secretaría Distrital de Hacienda, en la ciudad de Bogotá, cmunozo@shd.gov.co, Cel. Personal 3004484776 - 3004313955. | F22: BOGOTA D.C. | G22: RETEICA 2020 2 | H22: N/A | I22: 386000 | J22: 468000 | K22: 0 | L22: 0 | M22: NO | N22: 1 | O22: FISCAL | P22: 386000 | Q22: 468000 | R22: 0 | S22: CREDITO RECONOCIDO. Valor postergado por concepto de intereses, causal No.6, art.69 Ley 1116 de 2010 | T22: 43952 | U22: 43952 | V22: 0 | W22: 45931 | X22: 105.36 | Y22: 0.44039484 | Z22: 555992.41 | AA22: 555992.41 | AB22: 0.93657908 | AC22: CATEGORIA B (ENTIDADES PUBLICAS Y DE SEGURIDAD SOCIAL)
A23: Secretaría Distrital de Hacienda | B23: 899.999.061-9 | C23: 2025-01-819617 | D23: 45986 | E23: Carrera 30 No. 25-90 Piso 10 Subdirección de Gestión Judicial Secretaría Distrital de Hacienda, en la ciudad de Bogotá, cmunozo@shd.gov.co, Cel. Personal 3004484776 - 3004313955. | F23: BOGOTA D.C. | G23: RETEICA 2020 3 | H23: N/A | I23: 111000 | J23: 132000 | K23: 0 | L23: 0 | M23: NO | N23: 1 | O23: FISCAL | P23: 111000 | Q23: 132000 | R23: 0 | S23: CREDITO RECONOCIDO. Valor postergado por concepto de intereses, causal No.6, art.69 Ley 1116 de 2011 | T23: 44013 | U23: 44013 | V23: 0 | W23: 45931 | X23: 104.97 | Y23: 0.4457464 | Z23: 160477.85 | AA23: 160477.85 | AB23: 0.27032779 | AC23: CATEGORIA B (ENTIDADES PUBLICAS Y DE SEGURIDAD SOCIAL)
